BEGIN:VCALENDAR
VERSION:2.0
PRODID:-//Squarespace Inc/Squarespace 6//v6//EN
BEGIN:VEVENT
UID:5d4234229572b90001c82699@squarespace.com
DTSTAMP:20191002T000302Z
DTSTART:20190924T050000Z
DTEND:20190924T070000Z
SUMMARY:Tasting 2019
GEO:-41.265975;173.266512
LOCATION:The Boathouse Nelson\, 326 Wakefield Quay\, Nelson\, 7010\, New Ze
 aland
END:VEVENT
END:VCALENDAR
