BEGIN:VCALENDAR
VERSION:2.0
PRODID:-//Squarespace Inc/Squarespace 6//v6//EN
BEGIN:VEVENT
UID:58c8b063c534a566891c963d@squarespace.com
DTSTAMP:20170315T031635Z
DTSTART:20170625T203000Z
DTEND:20170628T053000Z
SUMMARY:Organic & Biodynamic Winegrowing Conference
END:VEVENT
END:VCALENDAR
