BEGIN:VCALENDAR
VERSION:2.0
PRODID:-//Squarespace Inc/Squarespace 6//v6//EN
BEGIN:VEVENT
UID:5901309a1e5b6c0e24f4e8bd@squarespace.com
DTSTAMP:20170426T234805Z
DTSTART:20170504T120000Z
DTEND:20170504T120000Z
SUMMARY:International Sauvignon Blanc Day
END:VEVENT
END:VCALENDAR
